BEGIN:VCALENDAR
VERSION:2.0
PRODID:-//Thebe Foundation - ECPv6.15.7//NONSGML v1.0//EN
CALSCALE:GREGORIAN
METHOD:PUBLISH
X-ORIGINAL-URL:https://thebefoundation.org.za
X-WR-CALDESC:Events for Thebe Foundation
REFRESH-INTERVAL;VALUE=DURATION:PT1H
X-Robots-Tag:noindex
X-PUBLISHED-TTL:PT1H
BEGIN:VTIMEZONE
TZID:Africa/Johannesburg
BEGIN:STANDARD
TZOFFSETFROM:+0200
TZOFFSETTO:+0200
TZNAME:SAST
DTSTART:20240101T000000
END:STANDARD
END:VTIMEZONE
BEGIN:VEVENT
DTSTART;VALUE=DATE:20250901
DTEND;VALUE=DATE:20250908
DTSTAMP:20260423T172951
CREATED:20251008T175859Z
LAST-MODIFIED:20251008T175859Z
UID:1734-1756684800-1757289599@thebefoundation.org.za
SUMMARY:Work-Readiness Programme
DESCRIPTION:
URL:https://thebefoundation.org.za/event/work-readiness-programme/
CATEGORIES:Alumni: Scholarship
END:VEVENT
BEGIN:VEVENT
DTSTART;VALUE=DATE:20250904
DTEND;VALUE=DATE:20250906
DTSTAMP:20260423T172951
CREATED:20251008T174412Z
LAST-MODIFIED:20251103T142530Z
UID:1701-1756944000-1757116799@thebefoundation.org.za
SUMMARY:C-EDP: Financial Management and Costing
DESCRIPTION:Financial management is essential for tracking expenses and ensuring profitability in a small business. This module teaches participants budgeting\, cost control\, tracking\, and financial decision-making skills to sustain and grow their business.
URL:https://thebefoundation.org.za/event/c-edp-financial-management-and-costing/
CATEGORIES:Entrepreneurship Programme
END:VEVENT
END:VCALENDAR