BEGIN:VCALENDAR
VERSION:2.0
PRODID:-//Thebe Foundation - ECPv6.15.7//NONSGML v1.0//EN
CALSCALE:GREGORIAN
METHOD:PUBLISH
X-ORIGINAL-URL:https://thebefoundation.org.za
X-WR-CALDESC:Events for Thebe Foundation
REFRESH-INTERVAL;VALUE=DURATION:PT1H
X-Robots-Tag:noindex
X-PUBLISHED-TTL:PT1H
BEGIN:VTIMEZONE
TZID:Africa/Johannesburg
BEGIN:STANDARD
TZOFFSETFROM:+0200
TZOFFSETTO:+0200
TZNAME:SAST
DTSTART:20240101T000000
END:STANDARD
END:VTIMEZONE
BEGIN:VEVENT
DTSTART;VALUE=DATE:20251001
DTEND;VALUE=DATE:20251015
DTSTAMP:20260423T160119
CREATED:20251008T180015Z
LAST-MODIFIED:20251008T180049Z
UID:1736-1759276800-1760486399@thebefoundation.org.za
SUMMARY:Advert is sent out mainly on Aura System for applications
DESCRIPTION:
URL:https://thebefoundation.org.za/event/advert-is-sent-out-mainly-on-aura-system-for-applications/
CATEGORIES:Scholarship Programme
END:VEVENT
BEGIN:VEVENT
DTSTART;VALUE=DATE:20251010
DTEND;VALUE=DATE:20251011
DTSTAMP:20260423T160119
CREATED:20251008T175202Z
LAST-MODIFIED:20251103T143845Z
UID:1718-1760054400-1760140799@thebefoundation.org.za
SUMMARY:SDP: Introduction to Cross-border trade and Markets
DESCRIPTION:Expanding beyond borders opens new markets and growth avenues. Participants understand export procedures\, opportunities\, and challenges in international trade.
URL:https://thebefoundation.org.za/event/sdp-introduction-to-cross-border-trade-and-markets/
CATEGORIES:Entrepreneurship Programme
END:VEVENT
END:VCALENDAR