BEGIN:VCALENDAR
VERSION:2.0
PRODID:-//Thebe Foundation - ECPv6.15.7//NONSGML v1.0//EN
CALSCALE:GREGORIAN
METHOD:PUBLISH
X-ORIGINAL-URL:https://thebefoundation.org.za
X-WR-CALDESC:Events for Thebe Foundation
REFRESH-INTERVAL;VALUE=DURATION:PT1H
X-Robots-Tag:noindex
X-PUBLISHED-TTL:PT1H
BEGIN:VTIMEZONE
TZID:Africa/Johannesburg
BEGIN:STANDARD
TZOFFSETFROM:+0200
TZOFFSETTO:+0200
TZNAME:SAST
DTSTART:20240101T000000
END:STANDARD
END:VTIMEZONE
BEGIN:VEVENT
DTSTART;VALUE=DATE:20251014
DTEND;VALUE=DATE:20251018
DTSTAMP:20260423T160221
CREATED:20251008T175346Z
LAST-MODIFIED:20251103T143507Z
UID:1722-1760400000-1760745599@thebefoundation.org.za
SUMMARY:C- EDP: Funding readiness
DESCRIPTION:Access to funding is critical for business startup and expansion. This module trains participants on preparing business plans and financials to attract investors\, grants\, or loans.
URL:https://thebefoundation.org.za/event/c-edp-funding-readiness/
CATEGORIES:Entrepreneurship Programme
END:VEVENT
END:VCALENDAR