BEGIN:VCALENDAR
VERSION:2.0
PRODID:-//Thebe Foundation - ECPv6.15.7//NONSGML v1.0//EN
CALSCALE:GREGORIAN
METHOD:PUBLISH
X-WR-CALNAME:Thebe Foundation
X-ORIGINAL-URL:https://thebefoundation.org.za
X-WR-CALDESC:Events for Thebe Foundation
REFRESH-INTERVAL;VALUE=DURATION:PT1H
X-Robots-Tag:noindex
X-PUBLISHED-TTL:PT1H
BEGIN:VTIMEZONE
TZID:Africa/Johannesburg
BEGIN:STANDARD
TZOFFSETFROM:+0200
TZOFFSETTO:+0200
TZNAME:SAST
DTSTART:20240101T000000
END:STANDARD
END:VTIMEZONE
BEGIN:VEVENT
DTSTART;VALUE=DATE:20251105
DTEND;VALUE=DATE:20251106
DTSTAMP:20260423T174209
CREATED:20251008T173146Z
LAST-MODIFIED:20251009T205513Z
UID:1680-1762300800-1762387199@thebefoundation.org.za
SUMMARY:Thebe Annual Outreach Programme
DESCRIPTION:Each year\, Thebe celebrates initiatives that are making a meaningful difference in building stronger communities. On the 5th of November\, we honour the birthday of one of our Founding Managing Directors\, Mr Vusi Khanyile\, through our community outreach programme. Our staff and partners dedicate this day to giving back\, volunteering their time and contributing donations to support impactful initiatives that uplift those around us.								\n				\n					\n				\n		\n					\n				\n				\n							\n					\n				\n				\n			\n							\n				\n									\n						Volunteering Form					\n				\n				\n									\n					\n						Apply Now
URL:https://thebefoundation.org.za/event/thebe-annual-outreach-programme/
CATEGORIES:Adhoc
END:VEVENT
BEGIN:VEVENT
DTSTART;VALUE=DATE:20251208
DTEND;VALUE=DATE:20260101
DTSTAMP:20260423T174209
CREATED:20251008T180211Z
LAST-MODIFIED:20251008T180211Z
UID:1738-1765152000-1767225599@thebefoundation.org.za
SUMMARY:Reccess
DESCRIPTION:
URL:https://thebefoundation.org.za/event/reccess/
CATEGORIES:Scholarship Programme
END:VEVENT
BEGIN:VEVENT
DTSTART;VALUE=DATE:20251210
DTEND;VALUE=DATE:20251213
DTSTAMP:20260423T174209
CREATED:20251009T175944Z
LAST-MODIFIED:20251009T175944Z
UID:1821-1765324800-1765583999@thebefoundation.org.za
SUMMARY:School close. End of term 4 (learners\, teachers)
DESCRIPTION:
URL:https://thebefoundation.org.za/event/school-close-end-of-term-4-learners-teachers/
CATEGORIES:School Holiday
END:VEVENT
BEGIN:VEVENT
DTSTART;VALUE=DATE:20260114
DTEND;VALUE=DATE:20260115
DTSTAMP:20260423T174209
CREATED:20251009T201904Z
LAST-MODIFIED:20251009T201904Z
UID:1823-1768348800-1768435199@thebefoundation.org.za
SUMMARY:Schools reopen.  Term 1
DESCRIPTION:
URL:https://thebefoundation.org.za/event/schools-reopen-term-1/
CATEGORIES:School Holiday
END:VEVENT
BEGIN:VEVENT
DTSTART;VALUE=DATE:20260227
DTEND;VALUE=DATE:20260228
DTSTAMP:20260423T174209
CREATED:20251008T173425Z
LAST-MODIFIED:20251008T173425Z
UID:1684-1772150400-1772236799@thebefoundation.org.za
SUMMARY:Graduation and Business Summit
DESCRIPTION:
URL:https://thebefoundation.org.za/event/graduation-and-business-summit/
CATEGORIES:Entrepreneurship Programme
END:VEVENT
BEGIN:VEVENT
DTSTART;VALUE=DATE:20260227
DTEND;VALUE=DATE:20260228
DTSTAMP:20260423T174209
CREATED:20251008T173504Z
LAST-MODIFIED:20251008T173504Z
UID:1686-1772150400-1772236799@thebefoundation.org.za
SUMMARY:Alumni Awards
DESCRIPTION:
URL:https://thebefoundation.org.za/event/alumni-awards/
CATEGORIES:Alumni: Entrepreneurship
END:VEVENT
BEGIN:VEVENT
DTSTART;VALUE=DATE:20260301
DTEND;VALUE=DATE:20260302
DTSTAMP:20260423T174209
CREATED:20251008T173304Z
LAST-MODIFIED:20251008T173304Z
UID:1682-1772323200-1772409599@thebefoundation.org.za
SUMMARY:International Women's Day
DESCRIPTION:
URL:https://thebefoundation.org.za/event/international-womens-day/
CATEGORIES:Days to observe
END:VEVENT
BEGIN:VEVENT
DTSTART;VALUE=DATE:20260322
DTEND;VALUE=DATE:20260329
DTSTAMP:20260423T174209
CREATED:20251008T180354Z
LAST-MODIFIED:20251008T180354Z
UID:1740-1774137600-1774742399@thebefoundation.org.za
SUMMARY:Alumni awards
DESCRIPTION:
URL:https://thebefoundation.org.za/event/alumni-awards-2/
CATEGORIES:Alumni: Scholarship
END:VEVENT
BEGIN:VEVENT
DTSTART;VALUE=DATE:20260322
DTEND;VALUE=DATE:20260329
DTSTAMP:20260423T174209
CREATED:20251008T180450Z
LAST-MODIFIED:20251008T180450Z
UID:1742-1774137600-1774742399@thebefoundation.org.za
SUMMARY:Skills and Career Summit
DESCRIPTION:
URL:https://thebefoundation.org.za/event/skills-and-career-summit/
CATEGORIES:Alumni: Scholarship
END:VEVENT
BEGIN:VEVENT
DTSTART;VALUE=DATE:20260327
DTEND;VALUE=DATE:20260328
DTSTAMP:20260423T174209
CREATED:20251009T202239Z
LAST-MODIFIED:20251009T202239Z
UID:1827-1774569600-1774655999@thebefoundation.org.za
SUMMARY:Schools close. End of term 1
DESCRIPTION:
URL:https://thebefoundation.org.za/event/schools-close-end-of-term-1/
CATEGORIES:School Holiday
END:VEVENT
BEGIN:VEVENT
DTSTART;VALUE=DATE:20260329
DTEND;VALUE=DATE:20260401
DTSTAMP:20260423T174209
CREATED:20251008T180758Z
LAST-MODIFIED:20251008T180758Z
UID:1746-1774742400-1775001599@thebefoundation.org.za
SUMMARY:Orientation of the students
DESCRIPTION:
URL:https://thebefoundation.org.za/event/orientation-of-the-students/
CATEGORIES:Scholarship Programme
END:VEVENT
END:VCALENDAR